BEGIN:VCALENDAR
VERSION:2.0
PRODID:-//Mont De Lancey - ECPv5.3.2.1//NONSGML v1.0//EN
CALSCALE:GREGORIAN
METHOD:PUBLISH
X-WR-CALNAME:Mont De Lancey
X-ORIGINAL-URL:https://www.montdelancey.org.au
X-WR-CALDESC:Events for Mont De Lancey
BEGIN:VTIMEZONE
TZID:Australia/Melbourne
BEGIN:STANDARD
TZOFFSETFROM:+1100
TZOFFSETTO:+1000
TZNAME:AEST
DTSTART:20190406T160000
END:STANDARD
BEGIN:DAYLIGHT
TZOFFSETFROM:+1000
TZOFFSETTO:+1100
TZNAME:AEDT
DTSTART:20191005T160000
END:DAYLIGHT
END:VTIMEZONE
BEGIN:VEVENT
DTSTART;TZID=Australia/Melbourne:20190501T080000
DTEND;TZID=Australia/Melbourne:20190530T170000
DTSTAMP:20210228T164044
CREATED:20190314T035457Z
LAST-MODIFIED:20190314T041220Z
UID:4344-1556697600-1559235600@www.montdelancey.org.au
SUMMARY:Tea Cosy Exhibition FUNDRAISER
DESCRIPTION:Tea Cosy Exhibition\nAll items will be for sale & the proceeds will be donated to Cancer Research.\n10am to 4pm CLOSED Monday & Tuesday\n  \n\n 
URL:https://www.montdelancey.org.au/event/4344/
END:VEVENT
END:VCALENDAR