BEGIN:VCALENDAR
VERSION:2.0
PRODID:-//Mont De Lancey - ECPv5.3.2.1//NONSGML v1.0//EN
CALSCALE:GREGORIAN
METHOD:PUBLISH
X-WR-CALNAME:Mont De Lancey
X-ORIGINAL-URL:https://www.montdelancey.org.au
X-WR-CALDESC:Events for Mont De Lancey
BEGIN:VTIMEZONE
TZID:Australia/Melbourne
BEGIN:STANDARD
TZOFFSETFROM:+1100
TZOFFSETTO:+1000
TZNAME:AEST
DTSTART:20190406T160000
END:STANDARD
BEGIN:DAYLIGHT
TZOFFSETFROM:+1000
TZOFFSETTO:+1100
TZNAME:AEDT
DTSTART:20191005T160000
END:DAYLIGHT
END:VTIMEZONE
BEGIN:VEVENT
DTSTART;TZID=Australia/Melbourne:20190505T130000
DTEND;TZID=Australia/Melbourne:20190505T180000
DTSTAMP:20210228T163907
CREATED:20190328T001729Z
LAST-MODIFIED:20190328T001729Z
UID:4435-1557061200-1557079200@www.montdelancey.org.au
SUMMARY:Discover Mont De Lancey - Open Day Festival
DESCRIPTION:Come along and enjoy an afternoon out at Mont De Lancey located at Wandin Nth in the Yarra Valley\n\n\nSausage sizzle \n\n\nMusic by Mr DJ Plus Licensed Bar and Food \n\n\nTearooms\n\n\nWorking machinery shed\, Blacksmiths and Wood turners \n\n\nMarket stalls & Gift shop \n\n\nIce cream truck & Jumping castle\n\n\nCome along and have a picnic amongst the beautiful gardens with our lush green grass!\n\n\nVisit the new De Lancey’s Barn for a beverage with lunch or dinner or just come along for a sausage in bread! \n\n\nThis place also has endless opportunity from weddings and receptions in the Delanceys Barn\, CHECK IT OUT!\n\n\nEnjoy the day with picnics\, tours\, shopping in our gift shop with local produce! Have a coffee in the Tea rooms or purchase something special in the blacksmiths! \n\n\nPlenty of parking \n\n\nGold coin entry – Kids FREE
URL:https://www.montdelancey.org.au/event/discover-mont-de-lancey-open-day-festival/
END:VEVENT
END:VCALENDAR