BEGIN:VCALENDAR
VERSION:2.0
PRODID:-//Mont De Lancey - ECPv5.3.2.1//NONSGML v1.0//EN
CALSCALE:GREGORIAN
METHOD:PUBLISH
X-WR-CALNAME:Mont De Lancey
X-ORIGINAL-URL:https://www.montdelancey.org.au
X-WR-CALDESC:Events for Mont De Lancey
BEGIN:VTIMEZONE
TZID:Australia/Melbourne
BEGIN:STANDARD
TZOFFSETFROM:+1100
TZOFFSETTO:+1000
TZNAME:AEST
DTSTART:20210403T160000
END:STANDARD
BEGIN:DAYLIGHT
TZOFFSETFROM:+1000
TZOFFSETTO:+1100
TZNAME:AEDT
DTSTART:20211002T160000
END:DAYLIGHT
END:VTIMEZONE
BEGIN:VEVENT
DTSTART;TZID=Australia/Melbourne:20211020T100000
DTEND;TZID=Australia/Melbourne:20211103T163000
DTSTAMP:20210228T162518
CREATED:20180412T003834Z
LAST-MODIFIED:20210218T231146Z
UID:2836-1634724000-1635957000@www.montdelancey.org.au
SUMMARY:School Art Show by Wandin Yallock Primary School - FREE
DESCRIPTION:Come and see a fantastic professional display of the students artwork\nOpen 10am till 4.30pm but CLOSED Mondays and Tuesdays
URL:https://www.montdelancey.org.au/event/school-art-exhibition-by-wandin-yallock-primary-school/
END:VEVENT
END:VCALENDAR