BEGIN:VCALENDAR
VERSION:2.0
PRODID:-//Mont De Lancey - ECPv5.3.2.1//NONSGML v1.0//EN
CALSCALE:GREGORIAN
METHOD:PUBLISH
X-WR-CALNAME:Mont De Lancey
X-ORIGINAL-URL:https://www.montdelancey.org.au
X-WR-CALDESC:Events for Mont De Lancey
BEGIN:VTIMEZONE
TZID:Australia/Melbourne
BEGIN:STANDARD
TZOFFSETFROM:+1100
TZOFFSETTO:+1000
TZNAME:AEST
DTSTART:20180331T160000
END:STANDARD
BEGIN:DAYLIGHT
TZOFFSETFROM:+1000
TZOFFSETTO:+1100
TZNAME:AEDT
DTSTART:20181006T160000
END:DAYLIGHT
END:VTIMEZONE
BEGIN:VEVENT
DTSTART;TZID=Australia/Melbourne:20180421T110000
DTEND;TZID=Australia/Melbourne:20180421T123000
DTSTAMP:20210228T164615
CREATED:20180329T004125Z
LAST-MODIFIED:20180329T004125Z
UID:2798-1524308400-1524313800@www.montdelancey.org.au
SUMMARY:YesterYear Tour
DESCRIPTION:ONLINE TOUR BOOKINGS  are available on our Home Page  Ever wonder what it would be like to live in the 1880s? Our YesterYear tour highlights the comparisons between a modern home and the pioneer Homestead. See if you can guess what rooms are missing. How would you manage without hot water\, electricity\, phone\, internet\, car and many other conveniences? As the Tour progresses around the property you will walk through the beautiful gardens set in lawns with stunning trees including a magnificent 100 year old oak.  There’s also Montys Tearoom for light lunches and  refreshments. The tours takes approximately 1.5 hours and are available at 11am & 2pm
URL:https://www.montdelancey.org.au/event/yesteryear-tour-214/
CATEGORIES:YesterYear Tours
END:VEVENT
END:VCALENDAR